BEGIN:VCALENDAR
VERSION:2.0
PRODID:-//Top Quest Consultants
CALSCALE:GREGORIAN
METHOD:PUBLISH
X-WR-CALNAME:Top Quest Consultants
X-ORIGINAL-URL:https://topquest.co.ke/product/iso-450012018-occupational-health-and-safety-internal-auditors-course/
X-WR-CALDESC:ISO 45001:2018 Occupational Health and Safety Internal Auditors course
BEGIN:VEVENT
DTSTART;TZID=Europe/Moscow:20240502T180000
DTEND;TZID=Europe/Moscow:20240502T220000
SUMMARY:ISO 45001:2018 Occupational Health and Safety Internal Auditors course
DESCRIPTION:
URL:https://topquest.co.ke/product/iso-450012018-occupational-health-and-safety-internal-auditors-course/
LOCATION:
END:VEVENT
END:VCALENDAR
